BEGIN:VCALENDAR
VERSION:2.0
PRODID:-//Black Bear Golf Club - Eustis, FL - ECPv6.15.20//NONSGML v1.0//EN
CALSCALE:GREGORIAN
METHOD:PUBLISH
X-WR-CALNAME:Black Bear Golf Club - Eustis, FL
X-ORIGINAL-URL:https://blackbeargolfclub.com
X-WR-CALDESC:Events for Black Bear Golf Club - Eustis, FL
REFRESH-INTERVAL;VALUE=DURATION:PT1H
X-Robots-Tag:noindex
X-PUBLISHED-TTL:PT1H
BEGIN:VTIMEZONE
TZID:America/New_York
BEGIN:DAYLIGHT
TZOFFSETFROM:-0500
TZOFFSETTO:-0400
TZNAME:EDT
DTSTART:20260308T070000
END:DAYLIGHT
BEGIN:STANDARD
TZOFFSETFROM:-0400
TZOFFSETTO:-0500
TZNAME:EST
DTSTART:20261101T060000
END:STANDARD
BEGIN:DAYLIGHT
TZOFFSETFROM:-0500
TZOFFSETTO:-0400
TZNAME:EDT
DTSTART:20270314T070000
END:DAYLIGHT
BEGIN:STANDARD
TZOFFSETFROM:-0400
TZOFFSETTO:-0500
TZNAME:EST
DTSTART:20271107T060000
END:STANDARD
BEGIN:DAYLIGHT
TZOFFSETFROM:-0500
TZOFFSETTO:-0400
TZNAME:EDT
DTSTART:20280312T070000
END:DAYLIGHT
BEGIN:STANDARD
TZOFFSETFROM:-0400
TZOFFSETTO:-0500
TZNAME:EST
DTSTART:20281105T060000
END:STANDARD
END:VTIMEZONE
BEGIN:VTIMEZONE
TZID:UTC
BEGIN:STANDARD
TZOFFSETFROM:+0000
TZOFFSETTO:+0000
TZNAME:UTC
DTSTART:20260101T000000
END:STANDARD
END:VTIMEZONE
BEGIN:VEVENT
DTSTART;TZID=America/New_York:20270101T000000
DTEND;TZID=America/New_York:20270101T235959
DTSTAMP:20260423T221326
CREATED:20250320T225810Z
LAST-MODIFIED:20250320T225815Z
UID:10000622-1798761600-1798847999@blackbeargolfclub.com
SUMMARY:Friday Inner Club
DESCRIPTION:
URL:https://blackbeargolfclub.com/event/friday-inner-club/2027-01-01/
END:VEVENT
BEGIN:VEVENT
DTSTART;TZID=America/New_York:20270101T000000
DTEND;TZID=America/New_York:20270101T235959
DTSTAMP:20260423T221326
CREATED:20250320T230448Z
LAST-MODIFIED:20250320T232221Z
UID:10000883-1798761600-1798847999@blackbeargolfclub.com
SUMMARY:Couples Golf
DESCRIPTION:
URL:https://blackbeargolfclub.com/event/couples-golf/2027-01-01/
END:VEVENT
BEGIN:VEVENT
DTSTART;TZID=UTC:20270104T110000
DTEND;TZID=UTC:20270104T180000
DTSTAMP:20260423T221326
CREATED:20250321T025447Z
LAST-MODIFIED:20250321T025456Z
UID:10000361-1799060400-1799085600@blackbeargolfclub.com
SUMMARY:Margarita Monday
DESCRIPTION:
URL:https://blackbeargolfclub.com/event/margarita-monday/2027-01-04/
END:VEVENT
BEGIN:VEVENT
DTSTART;TZID=UTC:20270105T170000
DTEND;TZID=UTC:20270105T210000
DTSTAMP:20260423T221326
CREATED:20250321T025216Z
LAST-MODIFIED:20250321T025224Z
UID:10000100-1799168400-1799182800@blackbeargolfclub.com
SUMMARY:Tuesday Night Mens League
DESCRIPTION:
URL:https://blackbeargolfclub.com/event/tuesday-night-mens-league/2027-01-05/
END:VEVENT
BEGIN:VEVENT
DTSTART;TZID=America/New_York:20270108T000000
DTEND;TZID=America/New_York:20270108T235959
DTSTAMP:20260423T221326
CREATED:20250320T225810Z
LAST-MODIFIED:20250320T225815Z
UID:10000623-1799366400-1799452799@blackbeargolfclub.com
SUMMARY:Friday Inner Club
DESCRIPTION:
URL:https://blackbeargolfclub.com/event/friday-inner-club/2027-01-08/
END:VEVENT
BEGIN:VEVENT
DTSTART;TZID=America/New_York:20270108T000000
DTEND;TZID=America/New_York:20270108T235959
DTSTAMP:20260423T221326
CREATED:20250320T230448Z
LAST-MODIFIED:20250320T232221Z
UID:10000884-1799366400-1799452799@blackbeargolfclub.com
SUMMARY:Couples Golf
DESCRIPTION:
URL:https://blackbeargolfclub.com/event/couples-golf/2027-01-08/
END:VEVENT
BEGIN:VEVENT
DTSTART;TZID=UTC:20270111T110000
DTEND;TZID=UTC:20270111T180000
DTSTAMP:20260423T221326
CREATED:20250321T025447Z
LAST-MODIFIED:20250321T025456Z
UID:10000362-1799665200-1799690400@blackbeargolfclub.com
SUMMARY:Margarita Monday
DESCRIPTION:
URL:https://blackbeargolfclub.com/event/margarita-monday/2027-01-11/
END:VEVENT
BEGIN:VEVENT
DTSTART;TZID=UTC:20270112T170000
DTEND;TZID=UTC:20270112T210000
DTSTAMP:20260423T221326
CREATED:20250321T025216Z
LAST-MODIFIED:20250321T025224Z
UID:10000101-1799773200-1799787600@blackbeargolfclub.com
SUMMARY:Tuesday Night Mens League
DESCRIPTION:
URL:https://blackbeargolfclub.com/event/tuesday-night-mens-league/2027-01-12/
END:VEVENT
BEGIN:VEVENT
DTSTART;TZID=America/New_York:20270115T000000
DTEND;TZID=America/New_York:20270115T235959
DTSTAMP:20260423T221326
CREATED:20250320T225810Z
LAST-MODIFIED:20250320T225815Z
UID:10000624-1799971200-1800057599@blackbeargolfclub.com
SUMMARY:Friday Inner Club
DESCRIPTION:
URL:https://blackbeargolfclub.com/event/friday-inner-club/2027-01-15/
END:VEVENT
BEGIN:VEVENT
DTSTART;TZID=America/New_York:20270115T000000
DTEND;TZID=America/New_York:20270115T235959
DTSTAMP:20260423T221326
CREATED:20250320T230448Z
LAST-MODIFIED:20250320T232221Z
UID:10000885-1799971200-1800057599@blackbeargolfclub.com
SUMMARY:Couples Golf
DESCRIPTION:
URL:https://blackbeargolfclub.com/event/couples-golf/2027-01-15/
END:VEVENT
BEGIN:VEVENT
DTSTART;TZID=UTC:20270118T110000
DTEND;TZID=UTC:20270118T180000
DTSTAMP:20260423T221326
CREATED:20250321T025447Z
LAST-MODIFIED:20250321T025456Z
UID:10000363-1800270000-1800295200@blackbeargolfclub.com
SUMMARY:Margarita Monday
DESCRIPTION:
URL:https://blackbeargolfclub.com/event/margarita-monday/2027-01-18/
END:VEVENT
BEGIN:VEVENT
DTSTART;TZID=UTC:20270119T170000
DTEND;TZID=UTC:20270119T210000
DTSTAMP:20260423T221326
CREATED:20250321T025216Z
LAST-MODIFIED:20250321T025224Z
UID:10000102-1800378000-1800392400@blackbeargolfclub.com
SUMMARY:Tuesday Night Mens League
DESCRIPTION:
URL:https://blackbeargolfclub.com/event/tuesday-night-mens-league/2027-01-19/
END:VEVENT
BEGIN:VEVENT
DTSTART;TZID=America/New_York:20270122T000000
DTEND;TZID=America/New_York:20270122T235959
DTSTAMP:20260423T221326
CREATED:20250320T225810Z
LAST-MODIFIED:20250320T225815Z
UID:10000625-1800576000-1800662399@blackbeargolfclub.com
SUMMARY:Friday Inner Club
DESCRIPTION:
URL:https://blackbeargolfclub.com/event/friday-inner-club/2027-01-22/
END:VEVENT
BEGIN:VEVENT
DTSTART;TZID=America/New_York:20270122T000000
DTEND;TZID=America/New_York:20270122T235959
DTSTAMP:20260423T221326
CREATED:20250320T230448Z
LAST-MODIFIED:20250320T232221Z
UID:10000886-1800576000-1800662399@blackbeargolfclub.com
SUMMARY:Couples Golf
DESCRIPTION:
URL:https://blackbeargolfclub.com/event/couples-golf/2027-01-22/
END:VEVENT
BEGIN:VEVENT
DTSTART;TZID=UTC:20270125T110000
DTEND;TZID=UTC:20270125T180000
DTSTAMP:20260423T221326
CREATED:20250321T025447Z
LAST-MODIFIED:20250321T025456Z
UID:10000364-1800874800-1800900000@blackbeargolfclub.com
SUMMARY:Margarita Monday
DESCRIPTION:
URL:https://blackbeargolfclub.com/event/margarita-monday/2027-01-25/
END:VEVENT
BEGIN:VEVENT
DTSTART;TZID=UTC:20270126T170000
DTEND;TZID=UTC:20270126T210000
DTSTAMP:20260423T221326
CREATED:20250321T025216Z
LAST-MODIFIED:20250321T025224Z
UID:10000103-1800982800-1800997200@blackbeargolfclub.com
SUMMARY:Tuesday Night Mens League
DESCRIPTION:
URL:https://blackbeargolfclub.com/event/tuesday-night-mens-league/2027-01-26/
END:VEVENT
BEGIN:VEVENT
DTSTART;TZID=America/New_York:20270129T000000
DTEND;TZID=America/New_York:20270129T235959
DTSTAMP:20260423T221326
CREATED:20250320T225810Z
LAST-MODIFIED:20250320T225815Z
UID:10000626-1801180800-1801267199@blackbeargolfclub.com
SUMMARY:Friday Inner Club
DESCRIPTION:
URL:https://blackbeargolfclub.com/event/friday-inner-club/2027-01-29/
END:VEVENT
BEGIN:VEVENT
DTSTART;TZID=America/New_York:20270129T000000
DTEND;TZID=America/New_York:20270129T235959
DTSTAMP:20260423T221326
CREATED:20250320T230448Z
LAST-MODIFIED:20250320T232221Z
UID:10000887-1801180800-1801267199@blackbeargolfclub.com
SUMMARY:Couples Golf
DESCRIPTION:
URL:https://blackbeargolfclub.com/event/couples-golf/2027-01-29/
END:VEVENT
BEGIN:VEVENT
DTSTART;TZID=UTC:20270201T110000
DTEND;TZID=UTC:20270201T180000
DTSTAMP:20260423T221326
CREATED:20250321T025447Z
LAST-MODIFIED:20250321T025456Z
UID:10000365-1801479600-1801504800@blackbeargolfclub.com
SUMMARY:Margarita Monday
DESCRIPTION:
URL:https://blackbeargolfclub.com/event/margarita-monday/2027-02-01/
END:VEVENT
BEGIN:VEVENT
DTSTART;TZID=UTC:20270202T170000
DTEND;TZID=UTC:20270202T210000
DTSTAMP:20260423T221326
CREATED:20250321T025216Z
LAST-MODIFIED:20250321T025224Z
UID:10000104-1801587600-1801602000@blackbeargolfclub.com
SUMMARY:Tuesday Night Mens League
DESCRIPTION:
URL:https://blackbeargolfclub.com/event/tuesday-night-mens-league/2027-02-02/
END:VEVENT
BEGIN:VEVENT
DTSTART;TZID=America/New_York:20270205T000000
DTEND;TZID=America/New_York:20270205T235959
DTSTAMP:20260423T221326
CREATED:20250320T225810Z
LAST-MODIFIED:20250320T225815Z
UID:10000627-1801785600-1801871999@blackbeargolfclub.com
SUMMARY:Friday Inner Club
DESCRIPTION:
URL:https://blackbeargolfclub.com/event/friday-inner-club/2027-02-05/
END:VEVENT
BEGIN:VEVENT
DTSTART;TZID=America/New_York:20270205T000000
DTEND;TZID=America/New_York:20270205T235959
DTSTAMP:20260423T221326
CREATED:20250320T230448Z
LAST-MODIFIED:20250320T232221Z
UID:10000888-1801785600-1801871999@blackbeargolfclub.com
SUMMARY:Couples Golf
DESCRIPTION:
URL:https://blackbeargolfclub.com/event/couples-golf/2027-02-05/
END:VEVENT
BEGIN:VEVENT
DTSTART;TZID=UTC:20270208T110000
DTEND;TZID=UTC:20270208T180000
DTSTAMP:20260423T221326
CREATED:20250321T025447Z
LAST-MODIFIED:20250321T025456Z
UID:10000366-1802084400-1802109600@blackbeargolfclub.com
SUMMARY:Margarita Monday
DESCRIPTION:
URL:https://blackbeargolfclub.com/event/margarita-monday/2027-02-08/
END:VEVENT
BEGIN:VEVENT
DTSTART;TZID=UTC:20270209T170000
DTEND;TZID=UTC:20270209T210000
DTSTAMP:20260423T221326
CREATED:20250321T025216Z
LAST-MODIFIED:20250321T025224Z
UID:10000105-1802192400-1802206800@blackbeargolfclub.com
SUMMARY:Tuesday Night Mens League
DESCRIPTION:
URL:https://blackbeargolfclub.com/event/tuesday-night-mens-league/2027-02-09/
END:VEVENT
BEGIN:VEVENT
DTSTART;TZID=America/New_York:20270212T000000
DTEND;TZID=America/New_York:20270212T235959
DTSTAMP:20260423T221326
CREATED:20250320T225810Z
LAST-MODIFIED:20250320T225815Z
UID:10000628-1802390400-1802476799@blackbeargolfclub.com
SUMMARY:Friday Inner Club
DESCRIPTION:
URL:https://blackbeargolfclub.com/event/friday-inner-club/2027-02-12/
END:VEVENT
BEGIN:VEVENT
DTSTART;TZID=America/New_York:20270212T000000
DTEND;TZID=America/New_York:20270212T235959
DTSTAMP:20260423T221326
CREATED:20250320T230448Z
LAST-MODIFIED:20250320T232221Z
UID:10000889-1802390400-1802476799@blackbeargolfclub.com
SUMMARY:Couples Golf
DESCRIPTION:
URL:https://blackbeargolfclub.com/event/couples-golf/2027-02-12/
END:VEVENT
BEGIN:VEVENT
DTSTART;TZID=UTC:20270215T110000
DTEND;TZID=UTC:20270215T180000
DTSTAMP:20260423T221326
CREATED:20250321T025447Z
LAST-MODIFIED:20250321T025456Z
UID:10000367-1802689200-1802714400@blackbeargolfclub.com
SUMMARY:Margarita Monday
DESCRIPTION:
URL:https://blackbeargolfclub.com/event/margarita-monday/2027-02-15/
END:VEVENT
BEGIN:VEVENT
DTSTART;TZID=UTC:20270216T170000
DTEND;TZID=UTC:20270216T210000
DTSTAMP:20260423T221326
CREATED:20250321T025216Z
LAST-MODIFIED:20250321T025224Z
UID:10000106-1802797200-1802811600@blackbeargolfclub.com
SUMMARY:Tuesday Night Mens League
DESCRIPTION:
URL:https://blackbeargolfclub.com/event/tuesday-night-mens-league/2027-02-16/
END:VEVENT
BEGIN:VEVENT
DTSTART;TZID=America/New_York:20270219T000000
DTEND;TZID=America/New_York:20270219T235959
DTSTAMP:20260423T221326
CREATED:20250320T225810Z
LAST-MODIFIED:20250320T225815Z
UID:10000629-1802995200-1803081599@blackbeargolfclub.com
SUMMARY:Friday Inner Club
DESCRIPTION:
URL:https://blackbeargolfclub.com/event/friday-inner-club/2027-02-19/
END:VEVENT
BEGIN:VEVENT
DTSTART;TZID=America/New_York:20270219T000000
DTEND;TZID=America/New_York:20270219T235959
DTSTAMP:20260423T221326
CREATED:20250320T230448Z
LAST-MODIFIED:20250320T232221Z
UID:10000890-1802995200-1803081599@blackbeargolfclub.com
SUMMARY:Couples Golf
DESCRIPTION:
URL:https://blackbeargolfclub.com/event/couples-golf/2027-02-19/
END:VEVENT
END:VCALENDAR